Workbook
Name Account: [1]!Table3[Account]
Name CodeActivity: [1]!Table58[code]
Name CodeClass: [1]!Table71[code]
Name CodeDonor: [1]!Table70[code]
Name CodeSubOffice: [1]!Table4[Location ID]
Name CostCenter: [1]!Table412[code]
Name CurList: [1]!Table20[Currencies]
Name DonorCode: [1]!Table27[DonorCode]
Name DonorName: [1]!Table27[DonorName]
Name OneZero: [1]_SetUP!$I$70:$I$71
Name ProjectList: [1]!Table214[Project]
Name QQQQQQ: [1]!Table3[Account]
Name QQQwww: [1]!Table58[code]
Name ResNO: [1]!Table2[ResID]
Name Site: [1]!Table41213[code]
Name SubOffice: [1]!Table4[Lacation Name]
Name UnitCode: [1]!Table46[UnitCode]
Name UnitName: [1]!Table46[Name]
Name UnitType: [1]!Table1[Units Name]

Sheet Budget per output-activity
G1: Sotsiaalministri 17. augusti 2020 käskkirjaga nr 75 „Väikeprojektide avatud taotlusvooru „Taastava õiguse arendamine Eestis“ elluviimiseks toetuse andmise tingimuste ja korra kinnitamine“ kinnitatud „Väikeprojektide avatud taotlusvooru „Taastava õiguse arendamine Eestis“ elluviimiseks toetuse andmise tingimused ja kord" LISA 1
A3: Projekti eelarve
A5: Taotlusvoor: | B5: Taastava õiguse arendamine Eestis I
A6: Projekti pealkiri
A7: Projekti elluviija:
A8: Projekti kogueelrve: | B8: €
A9: Toetuse määr: | B9: XX %
A10: Projekti kestus: | B10: XX kuud
B12: Ühiku liik | C12: Ühikute arv (a) | D12: Ühiku hind (€) (b) | E12: Kogukulu (€) (a) x (b) | F12: Kulutüüp | G12: Märkused/lisainfo/selgitused tegevuse kohta | H12: Juhend
A13: 1. OTSEKULUD - Reg. Art. 8.2 & Art. 8.3
A14: Projekti juhtimiskulud
A15: Projektijuhi töötasu (otsene personalikulu) | E15: =C15*D15 -> 0 | H15: =IF(F15=0," ",VLOOKUP(F15,Sheet1!$A$1:$B$8,2,FALSE))
A16: Projekti avaüritus | E16: =C16*D16 -> 0 | H16: =IF(F16=0," ",VLOOKUP(F16,Sheet1!$A$1:$B$8,2,FALSE))
A17: Projekti lõpuüritus | E17: =C17*D17 -> 0 | H17: =IF(F17=0," ",VLOOKUP(F17,Sheet1!$A$1:$B$8,2,FALSE))
A18: Tõlkekulud, reklaamikulud, visuaalne identiteet, projekti koduleht (eesti ja inglise) jne | E18: =C18*D18 -> 0 | H18: =IF(F18=0," ",VLOOKUP(F18,Sheet1!$A$1:$B$8,2,FALSE))
A19: Projekti meeskonna transpordikulud | E19: =C19*D19 -> 0 | H19: =IF(F19=0," ",VLOOKUP(F19,Sheet1!$A$1:$B$8,2,FALSE))
A20: kulu X | E20: =C20*D20 -> 0
A21: kulu Y | E21: =C21*D21 -> 0
E22: =C22*D22 -> 0
E23: =C23*D23 -> 0 | H23: =IF(F23=0," ",VLOOKUP(F23,Sheet1!$A$1:$B$8,2,FALSE))
E24: =C24*D24 -> 0 | H24: =IF(F24=0," ",VLOOKUP(F24,Sheet1!$A$1:$B$8,2,FALSE))
A25: Kokku 1.1: | E25: =SUM(E15:E24) -> 0 | H25: =IF(F25=0," ",VLOOKUP(F25,Sheet1!$A$1:$B$8,2,FALSE))
A26: Tegevus 1 (nimetus)
A27: Otsene personalikulu 1 | E27: =C27*D27 -> 0 | H27: =IF(F27=0," ",VLOOKUP(F27,Sheet1!$A$1:$B$8,2,FALSE))
A28: Otsene personalikulu 2 | E28: =C28*D28 -> 0 | H28: =IF(F28=0," ",VLOOKUP(F28,Sheet1!$A$1:$B$8,2,FALSE))
A29: kulu X | E29: =C29*D29 -> 0
A30: kulu Y | E30: =C30*D30 -> 0
E31: =C31*D31 -> 0
E32: =C32*D32 -> 0 | H32: =IF(F32=0," ",VLOOKUP(F32,Sheet1!$A$1:$B$8,2,FALSE))
E33: =C33*D33 -> 0 | H33: =IF(F33=0," ",VLOOKUP(F33,Sheet1!$A$1:$B$8,2,FALSE))
A34: Kokku 1.2: | E34: =SUM(E27:E33) -> 0 | H34: =IF(F34=0," ",VLOOKUP(F34,Sheet1!$A$1:$B$8,2,FALSE))
A35: Tegevus 2 (nimetus)
A36: Otsene personalikulu 1 | E36: =C36*D36 -> 0 | H36: =IF(F36=0," ",VLOOKUP(F36,Sheet1!$A$1:$B$8,2,FALSE))
A37: Otsene personalikulu 2 | E37: =C37*D37 -> 0 | H37: =IF(F37=0," ",VLOOKUP(F37,Sheet1!$A$1:$B$8,2,FALSE))
A38: kulu X | E38: =C38*D38 -> 0 | H38: =IF(F38=0," ",VLOOKUP(F38,Sheet1!$A$1:$B$8,2,FALSE))
A39: kulu Y | E39: =C39*D39 -> 0 | H39: =IF(F39=0," ",VLOOKUP(F39,Sheet1!$A$1:$B$8,2,FALSE))
E40: =C40*D40 -> 0 | H40: =IF(F40=0," ",VLOOKUP(F40,Sheet1!$A$1:$B$8,2,FALSE))
E41: =C41*D41 -> 0 | H41: =IF(F41=0," ",VLOOKUP(F41,Sheet1!$A$1:$B$8,2,FALSE))
E42: =C42*D42 -> 0 | H42: =IF(F42=0," ",VLOOKUP(F42,Sheet1!$A$1:$B$8,2,FALSE))
A43: Kokku 1.3: | E43: =SUM(E36:E42) -> 0 | H43: =IF(F43=0," ",VLOOKUP(F43,Sheet1!$A$1:$B$8,2,FALSE))
A44: Tegevus 3 (nimetus)
A45: Otsene personalikulu 1 | E45: =C45*D45 -> 0 | H45: =IF(F45=0," ",VLOOKUP(F45,Sheet1!$A$1:$B$8,2,FALSE))
A46: Otsene personalikulu 2 | E46: =C46*D46 -> 0 | H46: =IF(F46=0," ",VLOOKUP(F46,Sheet1!$A$1:$B$8,2,FALSE))
A47: kulu X | E47: =C47*D47 -> 0 | H47: =IF(F47=0," ",VLOOKUP(F47,Sheet1!$A$1:$B$8,2,FALSE))
A48: kulu Y | E48: =C48*D48 -> 0 | H48: =IF(F48=0," ",VLOOKUP(F48,Sheet1!$A$1:$B$8,2,FALSE))
E50: =C50*D50 -> 0 | H50: =IF(F50=0," ",VLOOKUP(F50,Sheet1!$A$1:$B$8,2,FALSE))
E51: =C51*D51 -> 0 | H51: =IF(F51=0," ",VLOOKUP(F51,Sheet1!$A$1:$B$8,2,FALSE))
A52: Kokku 1.4: | E52: =SUM(E45:E51) -> 0 | H52: =IF(F52=0," ",VLOOKUP(F52,Sheet1!$A$1:$B$8,2,FALSE))
A53: Tegevus N (nimetus)
A54: Otsene personalikulu 1 | E54: =C54*D54 -> 0 | H54: =IF(F54=0," ",VLOOKUP(F54,Sheet1!$A$1:$B$8,2,FALSE))
A55: Otsene personalikulu 2 | E55: =C55*D55 -> 0 | H55: =IF(F55=0," ",VLOOKUP(F55,Sheet1!$A$1:$B$8,2,FALSE))
A56: kulu X | E56: =C56*D56 -> 0 | H56: =IF(F56=0," ",VLOOKUP(F56,Sheet1!$A$1:$B$8,2,FALSE))
A57: kulu Y | E57: =C57*D57 -> 0 | H57: =IF(F57=0," ",VLOOKUP(F57,Sheet1!$A$1:$B$8,2,FALSE))
E58: =C58*D58 -> 0 | H58: =IF(F58=0," ",VLOOKUP(F58,Sheet1!$A$1:$B$8,2,FALSE))
E59: =C59*D59 -> 0 | H59: =IF(F59=0," ",VLOOKUP(F59,Sheet1!$A$1:$B$8,2,FALSE))
E60: =C60*D60 -> 0 | H60: =IF(F60=0," ",VLOOKUP(F60,Sheet1!$A$1:$B$8,2,FALSE))
A61: Kokku 1.5: | E61: =SUM(E54:E60) -> 0 | H61: =IF(F61=0," ",VLOOKUP(F61,Sheet1!$A$1:$B$8,2,FALSE))
A62: Kokku 1: | E62: =E25+E34+E43+E52+E61 -> 0
A63: 2. KAUDSED KULUD - Reg. Art. 8.5
A64: Kokku 2: | E64: 0 | H64: kuni 15% otsesest personalikulust ehk füüsiliste isikute tööjõukulust; valik: 0%, 5%, 10% või 15%.
A65: PROJEKTI KOGUKULU (1 + 2): | E65: =E62+E64 -> 0
A67: Projektijuhtimise kogukulu (€): | E67: =E25 -> 0
A68: Sisutegevuste kogukulu (€): | E68: =E34+E43+E52+E61 -> 0
A71: Väljund / Tegevus Kulutüüp | B71: Juhtimiskulu | C71: Tegevus 1 | D71: Tegevus 2 | E71: Tegevus 3 | F71: Tegevus …. | G71: ABIKÕLBLIKUD KULUD KOKKU IGAS KULUTÜÜBIS | H71: % KÕIKIDEST ABIKÕLBLIKEST KULUDEST
A72: projekti heaks tööle määratud töötajate kulu - Reg. Art. 8.3.1.a | B72: =IF($F$15=A72,$E$15,0)+IF($F$16=A72,$E$16,0)+IF($F$17=A72,$E$17,0)+IF($F$18=A72,$E$18,0)+IF($F$19=A72,$E$19,0)++IF($F$20=A72,$E$20,0)+IF($F$21=A72,$E$21,0)+IF($F$22=A72,$E$22,0)*IF($F$23=A72,$E$23,0)+IF($F$24=A72,$E$24,0) -> 0 | C72: =IF($F$27=A72,$E$27,0)+IF($F$28=A72,$E$28,0)++IF($F$29=A72,$E$29,0)+IF($F$30=A72,$E$30,0)+IF($F$31=A72,$E$31,0)+IF($F$32=A72,$E$32,0)+IF($F$33=A72,$E$33,0) -> 0 | D72: =IF($F$36=A72,$E$36,0)+IF($F$37=A72,$E$37,0)+IF($F$38=A72,$E$38,0)+IF($F$39=A72,$E$39,0)+IF($F$40=A72,$E$40,0)+IF($F$41=A72,$E$41,0)+IF($F$42=A72,$E$42,0) -> 0 | E72: =IF($F$45=A72,$E$45,0)+IF($F$46=A72,$E$46,0)+IF($F$47=A72,$E$47,0)+IF($F$48=A72,$E$48,0)+IF($F$49=A72,$E$49,0)+IF($F$50=A72,$E$50,0)+IF($F$51=A72,$E$51,0) -> 0 | F72: =IF($F$54=A72,$E$54,0)+IF($F$55=A72,$E$55,0)+IF($F$56=A72,$E$56,0)+IF($F$57=A72,$E$57,0)+IF($F$58=A72,$E$58,0)+IF($F$59=A72,$E$59,0)+IF($F$60=A72,$E$60,0) -> 0 | G72: =SUM(B72:F72) -> 0 | H72: =G72/$G$80 -> #DIV/0!
A73: projektis osalevate töötajate reisi- ja päevarahad - Reg. Art. 8.3.1.b | B73: =IF($F$15=A73,$E$15,0)+IF($F$16=A73,$E$16,0)+IF($F$17=A73,$E$17,0)+IF($F$18=A73,$E$18,0)+IF($F$19=A73,$E$19,0)++IF($F$20=A73,$E$20,0)+IF($F$21=A73,$E$21,0)+IF($F$22=A73,$E$22,0)*IF($F$23=A73,$E$23,0)+IF($F$24=A73,$E$24,0) -> 0 | C73: =IF($F$27=A73,$E$27,0)+IF($F$28=A73,$E$28,0)++IF($F$29=A73,$E$29,0)+IF($F$30=A73,$E$30,0)+IF($F$31=A73,$E$31,0)+IF($F$32=A73,$E$32,0)+IF($F$33=A73,$E$33,0) -> 0 | D73: =IF($F$36=A73,$E$36,0)+IF($F$37=A73,$E$37,0)+IF($F$38=A73,$E$38,0)+IF($F$39=A73,$E$39,0)+IF($F$40=A73,$E$40,0)+IF($F$41=A73,$E$41,0)+IF($F$42=A73,$E$42,0) -> 0 | E73: =IF($F$45=A73,$E$45,0)+IF($F$46=A73,$E$46,0)+IF($F$47=A73,$E$47,0)+IF($F$48=A73,$E$48,0)+IF($F$49=A73,$E$49,0)+IF($F$50=A73,$E$50,0)+IF($F$51=A73,$E$51,0) -> 0 | F73: =IF($F$54=A73,$E$54,0)+IF($F$55=A73,$E$55,0)+IF($F$56=A73,$E$56,0)+IF($F$57=A73,$E$57,0)+IF($F$58=A73,$E$58,0)+IF($F$59=A73,$E$59,0)+IF($F$60=A73,$E$60,0) -> 0 | G73: =SUM(B73:F73) -> 0 | H73: =G73/$G$80 -> #DIV/0!
A74: Uute või kasutatud seadmete kulumiNE - Reg. Art. 8.2.4 | B74: =IF($F$15=A74,$E$15,0)+IF($F$16=A74,$E$16,0)+IF($F$17=A74,$E$17,0)+IF($F$18=A74,$E$18,0)+IF($F$19=A74,$E$19,0)++IF($F$20=A74,$E$20,0)+IF($F$21=A74,$E$21,0)+IF($F$22=A74,$E$22,0)*IF($F$23=A74,$E$23,0)+IF($F$24=A74,$E$24,0) -> 0 | C74: =IF($F$27=A74,$E$27,0)+IF($F$28=A74,$E$28,0)++IF($F$29=A74,$E$29,0)+IF($F$30=A74,$E$30,0)+IF($F$31=A74,$E$31,0)+IF($F$32=A74,$E$32,0)+IF($F$33=A74,$E$33,0) -> 0 | D74: =IF($F$36=A74,$E$36,0)+IF($F$37=A74,$E$37,0)+IF($F$38=A74,$E$38,0)+IF($F$39=A74,$E$39,0)+IF($F$40=A74,$E$40,0)+IF($F$41=A74,$E$41,0)+IF($F$42=A74,$E$42,0) -> 0 | E74: =IF($F$45=A74,$E$45,0)+IF($F$46=A74,$E$46,0)+IF($F$47=A74,$E$47,0)+IF($F$48=A74,$E$48,0)+IF($F$49=A74,$E$49,0)+IF($F$50=A74,$E$50,0)+IF($F$51=A74,$E$51,0) -> 0 | F74: =IF($F$54=A74,$E$54,0)+IF($F$55=A74,$E$55,0)+IF($F$56=A74,$E$56,0)+IF($F$57=A74,$E$57,0)+IF($F$58=A74,$E$58,0)+IF($F$59=A74,$E$59,0)+IF($F$60=A74,$E$60,0) -> 0 | G74: =SUM(B74:F74) -> 0 | H74: =G74/$G$80 -> #DIV/0!
A75: Uute või kasutatud seadmete kulu - Reg. Art. 8.3.1.c & Art. 8.3.2 | B75: =IF($F$15=A75,$E$15,0)+IF($F$16=A75,$E$16,0)+IF($F$17=A75,$E$17,0)+IF($F$18=A75,$E$18,0)+IF($F$19=A75,$E$19,0)++IF($F$20=A75,$E$20,0)+IF($F$21=A75,$E$21,0)+IF($F$22=A75,$E$22,0)*IF($F$23=A75,$E$23,0)+IF($F$24=A75,$E$24,0) -> 0 | C75: =IF($F$27=A75,$E$27,0)+IF($F$28=A75,$E$28,0)++IF($F$29=A75,$E$29,0)+IF($F$30=A75,$E$30,0)+IF($F$31=A75,$E$31,0)+IF($F$32=A75,$E$32,0)+IF($F$33=A75,$E$33,0) -> 0 | D75: =IF($F$36=A75,$E$36,0)+IF($F$37=A75,$E$37,0)+IF($F$38=A75,$E$38,0)+IF($F$39=A75,$E$39,0)+IF($F$40=A75,$E$40,0)+IF($F$41=A75,$E$41,0)+IF($F$42=A75,$E$42,0) -> 0 | E75: =IF($F$45=A75,$E$45,0)+IF($F$46=A75,$E$46,0)+IF($F$47=A75,$E$47,0)+IF($F$48=A75,$E$48,0)+IF($F$49=A75,$E$49,0)+IF($F$50=A75,$E$50,0)+IF($F$51=A75,$E$51,0) -> 0 | F75: =IF($F$54=A75,$E$54,0)+IF($F$55=A75,$E$55,0)+IF($F$56=A75,$E$56,0)+IF($F$57=A75,$E$57,0)+IF($F$58=A75,$E$58,0)+IF($F$59=A75,$E$59,0)+IF($F$60=A75,$E$60,0) -> 0 | G75: =SUM(B75:F75) -> 0 | H75: =G75/$G$80 -> #DIV/0!
A76: Tarbekaupade ja tarvikute kulu - Reg. Art. 8.3.1.e | B76: =IF($F$15=A76,$E$15,0)+IF($F$16=A76,$E$16,0)+IF($F$17=A76,$E$17,0)+IF($F$18=A76,$E$18,0)+IF($F$19=A76,$E$19,0)++IF($F$20=A76,$E$20,0)+IF($F$21=A76,$E$21,0)+IF($F$22=A76,$E$22,0)*IF($F$23=A76,$E$23,0)+IF($F$24=A76,$E$24,0) -> 0 | C76: =IF($F$27=A76,$E$27,0)+IF($F$28=A76,$E$28,0)++IF($F$29=A76,$E$29,0)+IF($F$30=A76,$E$30,0)+IF($F$31=A76,$E$31,0)+IF($F$32=A76,$E$32,0)+IF($F$33=A76,$E$33,0) -> 0 | D76: =IF($F$36=A76,$E$36,0)+IF($F$37=A76,$E$37,0)+IF($F$38=A76,$E$38,0)+IF($F$39=A76,$E$39,0)+IF($F$40=A76,$E$40,0)+IF($F$41=A76,$E$41,0)+IF($F$42=A76,$E$42,0) -> 0 | E76: =IF($F$45=A76,$E$45,0)+IF($F$46=A76,$E$46,0)+IF($F$47=A76,$E$47,0)+IF($F$48=A76,$E$48,0)+IF($F$49=A76,$E$49,0)+IF($F$50=A76,$E$50,0)+IF($F$51=A76,$E$51,0) -> 0 | F76: =IF($F$54=A76,$E$54,0)+IF($F$55=A76,$E$55,0)+IF($F$56=A76,$E$56,0)+IF($F$57=A76,$E$57,0)+IF($F$58=A76,$E$58,0)+IF($F$59=A76,$E$59,0)+IF($F$60=A76,$E$60,0) -> 0 | G76: =SUM(B76:F76) -> 0 | H76: =G76/$G$80 -> #DIV/0!
A77: Projekti elluviimise eesmärgil sõlmitud lepingutega kaasnevad kulud - Reg. Art. 8.3.1.f | B77: =IF($F$15=A77,$E$15,0)+IF($F$16=A77,$E$16,0)+IF($F$17=A77,$E$17,0)+IF($F$18=A77,$E$18,0)+IF($F$19=A77,$E$19,0)++IF($F$20=A77,$E$20,0)+IF($F$21=A77,$E$21,0)+IF($F$22=A77,$E$22,0)*IF($F$23=A77,$E$23,0)+IF($F$24=A77,$E$24,0) -> 0 | C77: =IF($F$27=A77,$E$27,0)+IF($F$28=A77,$E$28,0)++IF($F$29=A77,$E$29,0)+IF($F$30=A77,$E$30,0)+IF($F$31=A77,$E$31,0)+IF($F$32=A77,$E$32,0)+IF($F$33=A77,$E$33,0) -> 0 | D77: =IF($F$36=A77,$E$36,0)+IF($F$37=A77,$E$37,0)+IF($F$38=A77,$E$38,0)+IF($F$39=A77,$E$39,0)+IF($F$40=A77,$E$40,0)+IF($F$41=A77,$E$41,0)+IF($F$42=A77,$E$42,0) -> 0 | E77: =IF($F$45=A77,$E$45,0)+IF($F$46=A77,$E$46,0)+IF($F$47=A77,$E$47,0)+IF($F$48=A77,$E$48,0)+IF($F$49=A77,$E$49,0)+IF($F$50=A77,$E$50,0)+IF($F$51=A77,$E$51,0) -> 0 | F77: =IF($F$54=A77,$E$54,0)+IF($F$55=A77,$E$55,0)+IF($F$56=A77,$E$56,0)+IF($F$57=A77,$E$57,0)+IF($F$58=A77,$E$58,0)+IF($F$59=A77,$E$59,0)+IF($F$60=A77,$E$60,0) -> 0 | G77: =SUM(B77:F77) -> 0 | H77: =G77/$G$80 -> #DIV/0!
A78: Projektilepinguga kehtestatud nõudmistest otseselt tulenevad kulud - Reg. Art. 8.3.1.g | B78: =IF($F$15=A78,$E$15,0)+IF($F$16=A78,$E$16,0)+IF($F$17=A78,$E$17,0)+IF($F$18=A78,$E$18,0)+IF($F$19=A78,$E$19,0)++IF($F$20=A78,$E$20,0)+IF($F$21=A78,$E$21,0)+IF($F$22=A78,$E$22,0)*IF($F$23=A78,$E$23,0)+IF($F$24=A78,$E$24,0) -> 0 | C78: =IF($F$27=A78,$E$27,0)+IF($F$28=A78,$E$28,0)++IF($F$29=A78,$E$29,0)+IF($F$30=A78,$E$30,0)+IF($F$31=A78,$E$31,0)+IF($F$32=A78,$E$32,0)+IF($F$33=A78,$E$33,0) -> 0 | D78: =IF($F$36=A78,$E$36,0)+IF($F$37=A78,$E$37,0)+IF($F$38=A78,$E$38,0)+IF($F$39=A78,$E$39,0)+IF($F$40=A78,$E$40,0)+IF($F$41=A78,$E$41,0)+IF($F$42=A78,$E$42,0) -> 0 | E78: =IF($F$45=A78,$E$45,0)+IF($F$46=A78,$E$46,0)+IF($F$47=A78,$E$47,0)+IF($F$48=A78,$E$48,0)+IF($F$49=A78,$E$49,0)+IF($F$50=A78,$E$50,0)+IF($F$51=A78,$E$51,0) -> 0 | F78: =IF($F$54=A78,$E$54,0)+IF($F$55=A78,$E$55,0)+IF($F$56=A78,$E$56,0)+IF($F$57=A78,$E$57,0)+IF($F$58=A78,$E$58,0)+IF($F$59=A78,$E$59,0)+IF($F$60=A78,$E$60,0) -> 0 | G78: =SUM(B78:F78) -> 0 | H78: =G78/$G$80 -> #DIV/0!
A79: KAUDSED KULUD - Reg. Art. 8.5 | G79: =E64 -> 0 | H79: =G79/$G$80 -> #DIV/0!
A80: ABIKÕLBLIKUD KULUD KOKKU | B80: =SUM(B72:B78) -> 0 | C80: =SUM(C72:C78) -> 0 | D80: =SUM(D72:D78) -> 0 | E80: =SUM(E72:E78) -> 0 | F80: =SUM(F72:F78) -> 0 | G80: =SUM(G72:G79) -> 0
A81: % PROJEKTI KOGUEELARVEST | B81: =B80/$G$80 -> #DIV/0! | C81: =C80/$G$80 -> #DIV/0! | D81: =D80/$G$80 -> #DIV/0! | E81: =E80/$G$80 -> #DIV/0! | F81: =F80/$G$80 -> #DIV/0! | G81: 1

Sheet Sheet1
A1: Cost of staff assigned to the project - Reg. Art. 8.3.1.a
A2: Travel and subsistence allowances for staff - Reg. Art. 8.3.1.b | B2: If lump sums, include a reference to the defined rules approved by the PO.
A3: Depreciation value for new or second hand equipment purchased - Reg. Art. 8.2.4
A4: Cost of new or second hand equipment - Reg. Art. 8.3.1.c & Art. 8.3.2 | B4: Refer to a document confirming that the PO determined the equipment as integral and necessary for achieving the outcomes of the PDP.
A5: Purchase of land and real estate - Reg. Art. 8.3.1.d & Art. 8.6
A6: Costs of consumables and supplies - Reg. Art. 8.3.1.e
A7: Costs entailed by other contracts awarded by PP for the purpose of carrying out the project - Reg. Art. 8.3.1.f | B7: Awarding should comply with the applicable rules on public procurement (Regulations Art. 8.15).
A8: Costs arising directly from requirements imposed by the project contract - Reg. Art. 8.3.1.g | B8: Include a reference to the relevant article of the project contract. Examples of costs: information/publicity, translations, specific evaluation, audits, charges for financial transactions, etc.
