Workbook
Name Account: [1]!Table3[Account]
Name CodeActivity: [1]!Table58[code]
Name CodeClass: [1]!Table71[code]
Name CodeDonor: [1]!Table70[code]
Name CodeSubOffice: [1]!Table4[Location ID]
Name CostCenter: [1]!Table412[code]
Name CurList: [1]!Table20[Currencies]
Name DonorCode: [1]!Table27[DonorCode]
Name DonorName: [1]!Table27[DonorName]
Name OneZero: [1]_SetUP!$I$70:$I$71
Name ProjectList: [1]!Table214[Project]
Name QQQQQQ: [1]!Table3[Account]
Name QQQwww: [1]!Table58[code]
Name ResNO: [1]!Table2[ResID]
Name Site: [1]!Table41213[code]
Name SubOffice: [1]!Table4[Lacation Name]
Name UnitCode: [1]!Table46[UnitCode]
Name UnitName: [1]!Table46[Name]
Name UnitType: [1]!Table1[Units Name]

Sheet Budget per output-activity
G1: Sotsiaalministri 17. augusti 2020 käskkirjaga nr 75 „Väikeprojektide avatud taotlusvooru „Taastava õiguse arendamine Eestis“ elluviimiseks toetuse andmise tingimuste ja korra kinnitamine“ kinnitatud „Väikeprojektide avatud taotlusvooru „Taastava õiguse arendamine Eestis“ elluviimiseks toetuse andmise tingimused ja kord" LISA 1
A3: Projekti eelarve
A5: Taotlusvoor: | B5: Taastava õiguse arendamine Eestis I
A6: Projekti pealkiri
A7: Projekti elluviija:
A8: Projekti kogueelrve: | B8: €
A9: Toetuse määr: | B9: XX %
A10: Projekti kestus: | B10: XX kuud
B12: Ühiku liik | C12: Ühikute arv (a) | D12: Ühiku hind (€) (b) | E12: Kogukulu (€) (a) x (b) | F12: Kulutüüp | G12: Märkused/lisainfo/selgitused tegevuse kohta | H12: Juhend
A13: 1. OTSEKULUD - Reg. Art. 8.2 & Art. 8.3
A14: Projekti juhtimiskulud
A15: Projektijuhi töötasu (otsene personalikulu) | E15: =C15*D15 -> 0 | H15: =IF(F15=0," ",VLOOKUP(F15,Sheet1!$A$1:$B$8,2,FALSE))
A16: Projekti avaüritus | E16: =C16*D16 -> 0 | H16: =IF(F16=0," ",VLOOKUP(F16,Sheet1!$A$1:$B$8,2,FALSE))
A17: Projekti lõpuüritus | E17: =C17*D17 -> 0 | H17: =IF(F17=0," ",VLOOKUP(F17,Sheet1!$A$1:$B$8,2,FALSE))
A18: Tõlkekulud, reklaamikulud, visuaalne identiteet, projekti koduleht (eesti ja inglise) jne | E18: =C18*D18 -> 0 | H18: =IF(F18=0," ",VLOOKUP(F18,Sheet1!$A$1:$B$8,2,FALSE))
A19: Projekti meeskonna transpordikulud | E19: =C19*D19 -> 0 | H19: =IF(F19=0," ",VLOOKUP(F19,Sheet1!$A$1:$B$8,2,FALSE))
A20: kulu X | E20: =C20*D20 -> 0
A21: kulu Y | E21: =C21*D21 -> 0
E22: =C22*D22 -> 0
E23: =C23*D23 -> 0 | H23: =IF(F23=0," ",VLOOKUP(F23,Sheet1!$A$1:$B$8,2,FALSE))
E24: =C24*D24 -> 0 | H24: =IF(F24=0," ",VLOOKUP(F24,Sheet1!$A$1:$B$8,2,FALSE))
A25: Kokku 1.1: | E25: =SUM(E15:E24) -> 0 | H25: =IF(F25=0," ",VLOOKUP(F25,Sheet1!$A$1:$B$8,2,FALSE))
A26: Tegevus 1 (nimetus)
A27: Otsene personalikulu 1 | E27: =C27*D27 -> 0 | H27: =IF(F27=0," ",VLOOKUP(F27,Sheet1!$A$1:$B$8,2,FALSE))
A28: Otsene personalikulu 2 | E28: =C28*D28 -> 0 | H28: =IF(F28=0," ",VLOOKUP(F28,Sheet1!$A$1:$B$8,2,FALSE))
A29: kulu X | E29: =C29*D29 -> 0
A30: kulu Y | E30: =C30*D30 -> 0
E31: =C31*D31 -> 0
E32: =C32*D32 -> 0 | H32: =IF(F32=0," ",VLOOKUP(F32,Sheet1!$A$1:$B$8,2,FALSE))
E33: =C33*D33 -> 0 | H33: =IF(F33=0," ",VLOOKUP(F33,Sheet1!$A$1:$B$8,2,FALSE))
A34: Kokku 1.2: | E34: =SUM(E27:E33) -> 0 | H34: =IF(F34=0," ",VLOOKUP(F34,Sheet1!$A$1:$B$8,2,FALSE))
A35: Tegevus 2 (nimetus)
A36: Otsene personalikulu 1 | E36: =C36*D36 -> 0 | H36: =IF(F36=0," ",VLOOKUP(F36,Sheet1!$A$1:$B$8,2,FALSE))
A37: Otsene personalikulu 2 | E37: =C37*D37 -> 0 | H37: =IF(F37=0," ",VLOOKUP(F37,Sheet1!$A$1:$B$8,2,FALSE))
A38: kulu X | E38: =C38*D38 -> 0 | H38: =IF(F38=0," ",VLOOKUP(F38,Sheet1!$A$1:$B$8,2,FALSE))
A39: kulu Y | E39: =C39*D39 -> 0 | H39: =IF(F39=0," ",VLOOKUP(F39,Sheet1!$A$1:$B$8,2,FALSE))
E40: =C40*D40 -> 0 | H40: =IF(F40=0," ",VLOOKUP(F40,Sheet1!$A$1:$B$8,2,FALSE))
E41: =C41*D41 -> 0 | H41: =IF(F41=0," ",VLOOKUP(F41,Sheet1!$A$1:$B$8,2,FALSE))
E42: =C42*D42 -> 0 | H42: =IF(F42=0," ",VLOOKUP(F42,Sheet1!$A$1:$B$8,2,FALSE))
A43: Kokku 1.3: | E43: =SUM(E36:E42) -> 0 | H43: =IF(F43=0," ",VLOOKUP(F43,Sheet1!$A$1:$B$8,2,FALSE))
...

Sheet Sheet1
A1: Cost of staff assigned to the project - Reg. Art. 8.3.1.a
A2: Travel and subsistence allowances for staff - Reg. Art. 8.3.1.b | B2: If lump sums, include a reference to the defined rules approved by the PO.
A3: Depreciation value for new or second hand equipment purchased - Reg. Art. 8.2.4
A4: Cost of new or second hand equipment - Reg. Art. 8.3.1.c & Art. 8.3.2 | B4: Refer to a document confirming that the PO determined the equipment as integral and necessary for achieving the outcomes of the PDP.
A5: Purchase of land and real estate - Reg. Art. 8.3.1.d & Art. 8.6
A6: Costs of consumables and supplies - Reg. Art. 8.3.1.e
A7: Costs entailed by other contracts awarded by PP for the purpose of carrying out the project - Reg. Art. 8.3.1.f | B7: Awarding should comply with the applicable rules on public procurement (Regulations Art. 8.15).
A8: Costs arising directly from requirements imposed by the project contract - Reg. Art. 8.3.1.g | B8: Include a reference to the relevant article of the project contract. Examples of costs: information/publicity, translations, specific evaluation, audits, charges for financial transactions, etc.
